BEGIN:VCALENDAR
VERSION:2.0
PRODID:-//Tema Motor//Etkinlik//TR
CALSCALE:GREGORIAN
METHOD:PUBLISH
BEGIN:VEVENT
UID:etk-1@seshane.xpanelim.com
DTSTAMP:20260420T121038Z
DTSTART;VALUE=DATE:20260604
DTEND;VALUE=DATE:20260608
SUMMARY:Bedensel Soruşturma
DESCRIPTION:Bedenimizin duyumsal deneyimiyle temas etmek\, zihinsel aktiviteyi azaltır ve düşüncelerimizi doğal olarak sakinleştirir. Dikkat bedene yerleştikçe\,\n"Şimdi ve Burada"yı doğrudan ve hissedilebilir bir\ngerçeklik olarak deneyimlemeye başlarız.\nDüşünce ve inançların ötesindeki bu gerçeklik\;\nvarlık hissi (presence)\, içsel huzur\, tutulma/taşınma duygusu ve rahatlık gibi beklenmedik hazineleri açığa çıkarabilir.
LOCATION:Seshane Yaşam Toplantı ve Etkinlik Oteli
END:VEVENT
END:VCALENDAR
